BEGIN:VCALENDAR
VERSION:2.0
PRODID:-// - ECPv6.15.20//NONSGML v1.0//EN
CALSCALE:GREGORIAN
METHOD:PUBLISH
X-ORIGINAL-URL:https://www.biblioteca.santaovaiavilapoucadabeira.pt
X-WR-CALDESC:Eventos para 
REFRESH-INTERVAL;VALUE=DURATION:PT1H
X-Robots-Tag:noindex
X-PUBLISHED-TTL:PT1H
BEGIN:VTIMEZONE
TZID:UTC
BEGIN:STANDARD
TZOFFSETFROM:+0000
TZOFFSETTO:+0000
TZNAME:UTC
DTSTART:20250101T000000
END:STANDARD
END:VTIMEZONE
BEGIN:VEVENT
DTSTART;TZID=UTC:20260501T160000
DTEND;TZID=UTC:20260501T170000
DTSTAMP:20260422T014025
CREATED:20260420T172444Z
LAST-MODIFIED:20260420T234549Z
UID:3049-1777651200-1777654800@www.biblioteca.santaovaiavilapoucadabeira.pt
SUMMARY:Palestra sobre os arguinas
DESCRIPTION:A Biblioteca Pública promove a Palestra sobre os Arguinas\, uma sessão dedicada à valorização da memória\, identidade e tradições associadas a esta comunidade e ao seu legado cultural. \nNesta iniciativa\, o orador convidado irá abordar o papel histórico dos arguinas\, explorando os seus modos de vida\, práticas e contributos para o património local e regional. A sessão inclui momentos de leitura\, partilha de testemunhos e reflexão sobre a importância da preservação da memória coletiva. \nDestinada a todos os públicos\, esta atividade pretende incentivar o gosto pela leitura\, o conhecimento da história local e o diálogo intergeracional\, num ambiente informal e participativo. \nA participação é gratuita.
URL:https://www.biblioteca.santaovaiavilapoucadabeira.pt/event/palestra-sobre-os-arguinas/
LOCATION:Santa Ovaia\, Largo Engº Figueiredo e Castro\, nº2\, Santa Ovaia\, Oliveira do Hospital\, 3400-602\, Portugal
CATEGORIES:Palestras
ATTACH;FMTTYPE=image/png:https://www.biblioteca.santaovaiavilapoucadabeira.pt/wp-content/uploads/2026/04/palestra.png
ORGANIZER;CN="Uni%C3%A3o de Freguesias":MAILTO:sitiosnobres@gmail.com
END:VEVENT
END:VCALENDAR